BEGIN:VCALENDAR
VERSION:2.0
PRODID:-//Kaneka Green Planet® - A Biobased Alternative to Traditional Plastic - PHA - ECPv6.15.20//NONSGML v1.0//EN
CALSCALE:GREGORIAN
METHOD:PUBLISH
X-WR-CALNAME:Kaneka Green Planet® - A Biobased Alternative to Traditional Plastic - PHA
X-ORIGINAL-URL:https://kanekagreenplanet.com
X-WR-CALDESC:Events for Kaneka Green Planet® - A Biobased Alternative to Traditional Plastic - PHA
REFRESH-INTERVAL;VALUE=DURATION:PT1H
X-Robots-Tag:noindex
X-PUBLISHED-TTL:PT1H
BEGIN:VTIMEZONE
TZID:UTC
BEGIN:STANDARD
TZOFFSETFROM:+0000
TZOFFSETTO:+0000
TZNAME:UTC
DTSTART:20250101T000000
END:STANDARD
END:VTIMEZONE
BEGIN:VEVENT
DTSTART;VALUE=DATE:20261018
DTEND;VALUE=DATE:20261022
DTSTAMP:20260424T231533
CREATED:20230711T004216Z
LAST-MODIFIED:20251021T190541Z
UID:5155-1792281600-1792627199@kanekagreenplanet.com
SUMMARY:PACK Expo International 2026
DESCRIPTION:♻️ Kaneka Green Planet is exhibiting at PACK Expo International 2026! ♻️\n📍 Booth SL-19009 | Containers and Materials Pavilion\n📅 October 18–21\, 2026 | McCormick Place\, Chicago\, IL \nWe’re proud to showcase our Green Planet PHBH™ biodegradable polymers—a sustainable\, bio-based alternative to traditional plastics. Designed for packaging\, film\, pouches\, bottles\, cutlery\, straws\, cups\, and plates. \nOur materials are: \n🌿 Home & industrial compostable\n🌊 Marine biodegradable\n🚫 Free of microplastics\n🔥 Heat-resistant & dishwasher-safe \nWhether you’re in foodservice\, packaging\, or consumer goods\, our solutions help you meet sustainability goals without compromising performance. Join us at PACK Expo to explore how Kaneka Green Planet is revolutionizing the future of packaging. \nLet’s build a cleaner\, greener tomorrow—starting today. \n#KanekaGreenPlanet #PACKExpo2026 #SustainablePackaging #BiodegradablePolymers #PHBH #CompostablePackaging #GreenInnovation #CircularEconomy \n  \nRegistration Information: PACK Expo Website
URL:https://kanekagreenplanet.com/event/pack-expo-2026/
LOCATION:McCormick\, Chicago\, IL\, 2301 S. King Drive\, Chicago\, IL\, 60616\, United States
ATTACH;FMTTYPE=image/webp:https://kanekagreenplanet.com/wp-content/uploads/2023/07/sq-pack-1.webp
END:VEVENT
END:VCALENDAR