BEGIN:VCALENDAR
VERSION:2.0
PRODID:-//Kaneka Green Planet® - A Biobased Alternative to Traditional Plastic - PHA - ECPv6.15.20//NONSGML v1.0//EN
CALSCALE:GREGORIAN
METHOD:PUBLISH
X-WR-CALNAME:Kaneka Green Planet® - A Biobased Alternative to Traditional Plastic - PHA
X-ORIGINAL-URL:https://kanekagreenplanet.com
X-WR-CALDESC:Events for Kaneka Green Planet® - A Biobased Alternative to Traditional Plastic - PHA
REFRESH-INTERVAL;VALUE=DURATION:PT1H
X-Robots-Tag:noindex
X-PUBLISHED-TTL:PT1H
BEGIN:VTIMEZONE
TZID:America/Chicago
BEGIN:DAYLIGHT
TZOFFSETFROM:-0600
TZOFFSETTO:-0500
TZNAME:CDT
DTSTART:20250309T080000
END:DAYLIGHT
BEGIN:STANDARD
TZOFFSETFROM:-0500
TZOFFSETTO:-0600
TZNAME:CST
DTSTART:20251102T070000
END:STANDARD
BEGIN:DAYLIGHT
TZOFFSETFROM:-0600
TZOFFSETTO:-0500
TZNAME:CDT
DTSTART:20260308T080000
END:DAYLIGHT
BEGIN:STANDARD
TZOFFSETFROM:-0500
TZOFFSETTO:-0600
TZNAME:CST
DTSTART:20261101T070000
END:STANDARD
BEGIN:DAYLIGHT
TZOFFSETFROM:-0600
TZOFFSETTO:-0500
TZNAME:CDT
DTSTART:20270314T080000
END:DAYLIGHT
BEGIN:STANDARD
TZOFFSETFROM:-0500
TZOFFSETTO:-0600
TZNAME:CST
DTSTART:20271107T070000
END:STANDARD
END:VTIMEZONE
BEGIN:VEVENT
DTSTART;VALUE=DATE:20260516
DTEND;VALUE=DATE:20260520
DTSTAMP:20260425T092616
CREATED:20241115T214519Z
LAST-MODIFIED:20251021T185602Z
UID:39392-1778889600-1779235199@kanekagreenplanet.com
SUMMARY:National Restaurant Show 2026
DESCRIPTION:🌱 Kaneka Green Planet is heading to Chicago for the 2026 National Restaurant Association Show! 🌱 \nWe’re excited to showcase our innovative Green Planet PHBH™ biodegradable polymers—a plant-based solution designed to replace traditional single-use plastics. From cutlery and straws to to-go packaging\, our materials are: \n✅ Bio-based & compostable in aerobic\, anaerobic\, and marine environments\n✅ Heat-resistant and water vapor barrier capable\n✅ FDA-approved for food contact applications \nProduced through a novel bio-fermentation process using renewable plant oils\, Green Planet PHBH™ is a sustainable alternative that helps reduce ocean and landfill pollution—without compromising performance. \n📍 Visit us at Booth #8816 in the North Building\n📅 May 16–19\, 2026 | McCormick Place\, Chicago \nLet’s build a greener future for foodservice—one compostable product at a time. \nhttps://www.nationalrestaurantshow.com/
URL:https://kanekagreenplanet.com/event/national-restaurant-show-2026/
LOCATION:McCormick\, Chicago\, IL\, 2301 S. King Drive\, Chicago\, IL\, 60616\, United States
ATTACH;FMTTYPE=image/webp:https://kanekagreenplanet.com/wp-content/uploads/2023/07/sq-SRS2.webp
END:VEVENT
END:VCALENDAR