BEGIN:VCALENDAR
VERSION:2.0
PRODID:-//Kaneka Green Planet® - A Biobased Alternative to Traditional Plastic - PHA - ECPv6.15.20//NONSGML v1.0//EN
CALSCALE:GREGORIAN
METHOD:PUBLISH
X-WR-CALNAME:Kaneka Green Planet® - A Biobased Alternative to Traditional Plastic - PHA
X-ORIGINAL-URL:https://kanekagreenplanet.com
X-WR-CALDESC:Events for Kaneka Green Planet® - A Biobased Alternative to Traditional Plastic - PHA
REFRESH-INTERVAL;VALUE=DURATION:PT1H
X-Robots-Tag:noindex
X-PUBLISHED-TTL:PT1H
BEGIN:VTIMEZONE
TZID:America/Chicago
BEGIN:DAYLIGHT
TZOFFSETFROM:-0600
TZOFFSETTO:-0500
TZNAME:CDT
DTSTART:20250309T080000
END:DAYLIGHT
BEGIN:STANDARD
TZOFFSETFROM:-0500
TZOFFSETTO:-0600
TZNAME:CST
DTSTART:20251102T070000
END:STANDARD
BEGIN:DAYLIGHT
TZOFFSETFROM:-0600
TZOFFSETTO:-0500
TZNAME:CDT
DTSTART:20260308T080000
END:DAYLIGHT
BEGIN:STANDARD
TZOFFSETFROM:-0500
TZOFFSETTO:-0600
TZNAME:CST
DTSTART:20261101T070000
END:STANDARD
BEGIN:DAYLIGHT
TZOFFSETFROM:-0600
TZOFFSETTO:-0500
TZNAME:CDT
DTSTART:20270314T080000
END:DAYLIGHT
BEGIN:STANDARD
TZOFFSETFROM:-0500
TZOFFSETTO:-0600
TZNAME:CST
DTSTART:20271107T070000
END:STANDARD
END:VTIMEZONE
BEGIN:VEVENT
DTSTART;VALUE=DATE:20260915
DTEND;VALUE=DATE:20260918
DTSTAMP:20260425T110100
CREATED:20260414T211739Z
LAST-MODIFIED:20260415T165059Z
UID:51737-1789430400-1789689599@kanekagreenplanet.com
SUMMARY:LOUPE Americas 2026 - Formerly Labelexpo
DESCRIPTION:🌱 Kaneka Green Planet is Exhibiting at LOUPE Americas 2026 🌱\nWe are excited to share that Kaneka Green Planet will be exhibiting at LOUPE Americas 2026\, North America’s largest dedicated event for the label and package printing industry. \n📍 Where: Donald E. Stephens Convention Center\, Chicago\n📅 When: September 15–17\, 2026 \nFormerly Labelexpo Americas\, LOUPE Americas brings together more than 400 exhibitors and industry leaders to explore the latest innovations in labels\, flexible packaging\, folding cartons\, materials\, and sustainable technologies. \nAt our booth\, Kaneka Green Planet will highlight PHBH™ biodegradable polymer solutions designed to support sustainable packaging applications and help reduce environmental impact across the value chain. We look forward to connecting with converters\, brand owners\, and partners who are shaping the future of packaging.\nIf you are attending LOUPE Americas 2026\, be sure to stop by and learn how Kaneka Green Planet is helping drive innovation through bio‑based materials.\n👉 Learn more about the show: https://www.loupe-americas.com
URL:https://kanekagreenplanet.com/event/loupe-americas-2026-formerly-labelexpo/
LOCATION:Donald E. Stephens Convention Center\, 5555 N River Rd\, Rosemont\, IL\, 60018\, United States
ATTACH;FMTTYPE=image/png:https://kanekagreenplanet.com/wp-content/uploads/2026/04/loupe.png
END:VEVENT
BEGIN:VEVENT
DTSTART;VALUE=DATE:20260712
DTEND;VALUE=DATE:20260714
DTSTAMP:20260425T110100
CREATED:20240528T154842Z
LAST-MODIFIED:20251021T193334Z
UID:22940-1783814400-1783987199@kanekagreenplanet.com
SUMMARY:Texas Restaurant Show 2026
DESCRIPTION:🌟 Kaneka Green Planet is proud to exhibit at the 2026 Texas Restaurant Show in San Antonio! 🌟\n📍 Presented by Eat Local. Eat Often.\n📅 July 12–13\, 2026 | Henry B. Gonzalez Convention Center\, \nJoin us and explore how our Green Planet PHBH™ biodegradable polymers are transforming foodservice sustainability. From cutlery and straws to to-go packaging\, our materials offer: \n✅ Home & industrial compostability\n✅ Marine biodegradability\n✅ FDA-approved food contact safety\n✅ Heat resistance & durability \nWhether you’re a single-unit operator or a multi-chain franchise\, our solutions help you meet sustainability goals while maintaining performance and customer satisfaction. \nWith over 500 booths\, three days of educational sessions\, and countless networking opportunities\, this is the place to discover the future of foodservice. \n🎟️ TRA restaurant members enjoy FREE registration ($75 value)—bring your whole team and join us in Houston! \nLet’s build a cleaner\, greener Texas—one compostable product at a time. \n#KanekaGreenPlanet #TXRestaurantShow #BiodegradablePolymers #SustainableFoodservice #PHA #CompostablePackaging #GreenPlanetPHBH #HoustonEvents #EatLocalEatOften \nhttps://www.txrestaurantshow.com/
URL:https://kanekagreenplanet.com/event/texas-restaurant-show-2026/
LOCATION:Henry B. Gonzalez Convention Center\, 900 E Market St\, San Antonio\, TX\, 78205\, United States
ATTACH;FMTTYPE=image/png:https://kanekagreenplanet.com/wp-content/uploads/2024/05/sq-TRS.png
END:VEVENT
BEGIN:VEVENT
DTSTART;VALUE=DATE:20260516
DTEND;VALUE=DATE:20260520
DTSTAMP:20260425T110100
CREATED:20241115T214519Z
LAST-MODIFIED:20251021T185602Z
UID:39392-1778889600-1779235199@kanekagreenplanet.com
SUMMARY:National Restaurant Show 2026
DESCRIPTION:🌱 Kaneka Green Planet is heading to Chicago for the 2026 National Restaurant Association Show! 🌱 \nWe’re excited to showcase our innovative Green Planet PHBH™ biodegradable polymers—a plant-based solution designed to replace traditional single-use plastics. From cutlery and straws to to-go packaging\, our materials are: \n✅ Bio-based & compostable in aerobic\, anaerobic\, and marine environments\n✅ Heat-resistant and water vapor barrier capable\n✅ FDA-approved for food contact applications \nProduced through a novel bio-fermentation process using renewable plant oils\, Green Planet PHBH™ is a sustainable alternative that helps reduce ocean and landfill pollution—without compromising performance. \n📍 Visit us at Booth #8816 in the North Building\n📅 May 16–19\, 2026 | McCormick Place\, Chicago \nLet’s build a greener future for foodservice—one compostable product at a time. \nhttps://www.nationalrestaurantshow.com/
URL:https://kanekagreenplanet.com/event/national-restaurant-show-2026/
LOCATION:McCormick\, Chicago\, IL\, 2301 S. King Drive\, Chicago\, IL\, 60616\, United States
ATTACH;FMTTYPE=image/webp:https://kanekagreenplanet.com/wp-content/uploads/2023/07/sq-SRS2.webp
END:VEVENT
END:VCALENDAR